BEGIN:VCALENDAR
VERSION:2.0
PRODID:-//wp-events-plugin.com//7.2.3.1//EN
TZID:America/Los_Angeles
X-WR-TIMEZONE:America/Los_Angeles
BEGIN:VEVENT
UID:12@tthngd.net
DTSTART:20230611T160000Z
DTEND:20230611T200000Z
DTSTAMP:20230403T170047Z
URL:https://tthngd.net/events/tinh-huan-3-sunday-june-11-2023-tu-400-800pm
 /
SUMMARY:Tĩnh Huấn 3
DESCRIPTION:Tĩnh Huấn 3: Sunday June 11/2023 – Từ 4:00-8:00PM\n\nLi
 nh Mục Tổng Quản Giuse Đinh Đức Hảo. Chủ Tế Thánh Lễ v
 à chia xẻ đề tài: - Khiêm Nhường trong Phục Vụ.   - Sin
 h hoạt kiểm điểm công tác của từng ban trước khi lên kho
 á.\n\n\nĐịa điểm cho buổi Tĩnh Huấn trên tại Trung Tâm Cô
 ng Giáo\n\n\n\n2849 S. White Road\, San Jose CA 95148\n\n\n\n\n
ATTACH;FMTTYPE=image/jpeg:https://tthngd.net/wp-content/uploads/becfdaada1
 f8abbb59ffcbb2b211b60b.jpg
LOCATION:Trung Tam Cong Giao\, 2849 S. White Rd\, San Jose\, CA\, 95148\, S
 anta Clara\, United States
X-APPLE-STRUCTURED-LOCATION;VALUE=URI;X-ADDRESS=2849 S. White Rd\, San Jose
 \, CA\, 95148\, Santa Clara\, United States;X-APPLE-RADIUS=100;X-TITLE=Tru
 ng Tam Cong Giao:geo:0,0
END:VEVENT
END:VCALENDAR