BEGIN:VCALENDAR
VERSION:2.0
PRODID:-//wp-events-plugin.com//7.2.3.1//EN
TZID:America/Los_Angeles
X-WR-TIMEZONE:America/Los_Angeles
BEGIN:VEVENT
UID:34@tthngd.net
DTSTART:20250922T010000Z
DTEND:20250922T043000Z
DTSTAMP:20250919T212341Z
URL:https://tthngd.net/events/thanh-le-va-sinh-hoat-song-nguyen/
SUMMARY:Thánh Lễ và Sinh Hoạt Song Nguyền
DESCRIPTION:Kính chào quý anh chị Song Nguyền thân mến\,\nMong qu
 ý anh chị luôn mạnh khỏe và bình an.\nChúng em xin thay mặt C
 ha Linh Nguyền\, quý Phó Tế cùng toàn thể Ban Điều Hành Chư
 ơng Trình TTHNGĐ Giáo Phận San Jose\, kính mời quý anh chị đ
 ến tham dự Thánh Lễ và tham dự buổi Sinh Hoạt Song Nguyền 
 sắp tới.\nThời gian: Chúa Nhật  9/21/25 từ 3:30pm  đến 7:0
 0pm\nĐịa điểm: Trung Tâm Công Giáo\n                 284
 9  S. White Road\,       \n                 San Jose\, CA 95
 148\nTrong Thánh Lễ và Buổi Sinh Hoạt Song Nguyền này\, đặc 
 biệt sẽ có Nghi Thức Sai Đi cho các anh chị Trưởng\, Phó\, 
 Thư Ký\, và Thủ Quỹ của Liên Gia 77\, Liên Gia 78 và Liên Gia
  79.\nMong quý anh chị cố gắng sắp xếp thời gian đến thậ
 t đông đủ để chúng ta cùng nhau tham dự Thánh Lễ Chúa Nh
 ật và cùng nhau cầu nguyện và ủng hộ tinh thần cho các anh
  chị Song Nguyền của ba Liên Gia mới thành lập.\nBan Điều H
 ành sẽ chuẩn bị thức ăn nhẹ cho chúng ta sau Thánh Lễ.\nC
 ảm ơn quý anh chị và chúng em rất mong được gặp tất cả
  quý anh chị ở Thánh Lễ và buổi Sinh Hoạt Song Nguyền này.
 \nThay mặt Ban Điều Hành\nTrưởng Ban Liên Gia\nSN Thiên Nga
ATTACH;FMTTYPE=image/jpeg:https://tthngd.net/wp-content/uploads/2025/06/20
 24-04-29_LoiChua_PhucAm_image.jpg
LOCATION:Trung Tâm Công Giáo\, 2849  S. White Road\, SAN JOSE\, CA\, 95
 148\, Santa Clara\, United States
X-APPLE-STRUCTURED-LOCATION;VALUE=URI;X-ADDRESS=2849  S. White Road\, SAN 
 JOSE\, CA\, 95148\, Santa Clara\, United States;X-APPLE-RADIUS=100;X-TITLE
 =Trung Tâm Công Giáo:geo:0,0
END:VEVENT
END:VCALENDAR