BEGIN:VCALENDAR
VERSION:2.0
PRODID:-//wp-events-plugin.com//7.2.3.1//EN
TZID:America/Los_Angeles
X-WR-TIMEZONE:America/Los_Angeles
BEGIN:VEVENT
UID:19@tthngd.net
DTSTART:20240226T013000Z
DTEND:20240226T063000Z
DTSTAMP:20240102T212437Z
URL:https://tthngd.net/events/song-nguyen-i/
SUMMARY:Song Nguyền I
DESCRIPTION:Xin kính mời quý anh chị Song nguyền tham dự Buổi S
 ong Nguyền I\n\nNgày &amp\; giờ: 25 tháng 2 năm 2024\, từ 4:00 PM
  - 9:00 PM\n\nĐịa điểm: Trung Tâm Công Giáo\n\n&nbsp\;\n\nChân t
 hành cám ơn quý anh chị Song nguyền.\n\nBan Truyền Thông.
ATTACH;FMTTYPE=image/jpeg:https://tthngd.net/wp-content/uploads/2023/04/do
 wnload-gigapixel-standard-scale-4_00x.png
LOCATION:Trung Tâm Công Giáo \,\, 2849 S White Rd\, San Jose\, CA\, 9514
 8\, United States
X-APPLE-STRUCTURED-LOCATION;VALUE=URI;X-ADDRESS=2849 S White Rd\, San Jose\
 , CA\, 95148\, United States;X-APPLE-RADIUS=100;X-TITLE=Trung Tâm Công G
 iáo \,:geo:0,0
END:VEVENT
END:VCALENDAR