BEGIN:VCALENDAR
VERSION:2.0
PRODID:-//wp-events-plugin.com//7.2.3.1//EN
TZID:America/Los_Angeles
X-WR-TIMEZONE:America/Los_Angeles
BEGIN:VEVENT
UID:39@tthngd.net
DTSTART:20251101T203000Z
DTEND:20251101T223000Z
DTSTAMP:20251023T175248Z
URL:https://tthngd.net/events/nghi-le-an-vi-tro-cot-cua-cha-sang-lap/
SUMMARY:Nghi Lễ An Vị Tro Cốt của Cha Sáng Lập
DESCRIPTION:Kính thưa quý anh chị Song Nguyền\,\n \nChúng em xin c
 huyển lời mời của gia đình Cha Sáng Lập kính mời quý Song
  Nguyền và Thân Hữu tham dự Nghi Lễ An Vị Tro Cốt của Cha 
 Sáng Lập.\n \nThời gian: 11 AM thứ Bảy Ngày 01 Tháng 11 Năm 2
 025\nĐịa điểm: Santa Clara Mission Cemetery\, 490 Lincoln Street\, 
 Santa Clara\, CA 95050.\n \nNghi lễ An Vị này sẽ do Cha Bề Trên
  Joseph O'Keefe\, SJ\, làm chủ lễ.\n \nXin cám ơn và chúc quý a
 nh chị một tuần an lành.\n \nChúng em\,\n\n\n\nThanh-Huệ\n\nCh
 ủ Nguyền\n\nthanhhue2720@gmail.com\n(408) 826-9404 (Thanh)\n(408) 702-
 7000 (Huệ)\n\n\n\n
ATTACH;FMTTYPE=image/jpeg:https://tthngd.net/wp-content/uploads/2025/09/Ch
 a-SL.jpeg
LOCATION:Santa Clara Mission Cemetery\, 490 Lincoln Street\, Santa Clara\, 
 CA\, 95050\, Santa Clara\, United States
X-APPLE-STRUCTURED-LOCATION;VALUE=URI;X-ADDRESS=490 Lincoln Street\, Santa 
 Clara\, CA\, 95050\, Santa Clara\, United States;X-APPLE-RADIUS=100;X-TITL
 E=Santa Clara Mission Cemetery:geo:0,0
END:VEVENT
END:VCALENDAR