BEGIN:VCALENDAR
VERSION:2.0
PRODID:-//wp-events-plugin.com//7.2.3.1//EN
TZID:America/Los_Angeles
X-WR-TIMEZONE:America/Los_Angeles
BEGIN:VEVENT
UID:17@tthngd.net
DTSTART:20231231T033000Z
DTEND:20231231T060000Z
DTSTAMP:20231214T224418Z
URL:https://tthngd.net/events/le-thanh-gia/
SUMMARY:Lễ Thánh Gia
DESCRIPTION:Quý Anh Chị Song Nguyền thân mến\,\n\nThân mời Quý 
 Anh Chị và Gia Đình tham dự Lễ Thánh Gia Thất\, Bổn Mạng C
 hương Trình Thăng Tiến Hôn Nhân Gia Đình:\n\nThứ Bảy Ngày 3
 0 Tháng 12\, 2023 lúc 6 giờ chiều chung với cộng đoàn Giáo X
 ứ.\n\nTại Thánh Đường Đức Mẹ La Vang. 389 E Santa Clara St\,
  San Jose\, CA 95113.\n\nĐặc biệt\, trong Thánh Lễ sẽ có nghi t
 hức Lập Lại Lời Thệ Hôn cho các cặp vợ chồng.\n\nCuối 
 lễ sẽ có phép lành sai đi cho Tân Ban Điều Hành nhiệm kỳ 
 2024-2026.\n\nSau đó Tiệc mừng Liên hoan cuối năm sẽ được 
 tổ chức bên hội trường Giáo xứ Đức Mẹ La Vang.\n\nBan V
 ăn Nghệ của Chương Trình AC Sơn-Trâm đang chuẩn bị để ch
 úng ta có một buổi tối hát cho nhau nghe thật hay vui và ấm 
 áp.\n\nBan Điều Hành rất vui khi nhận được tin nhắn từ v
 ài liên gia gọi đến cho biết sẽ đóng góp món: Bò kho\, Mi
 ến xào cua\, cơm chiên…Các liên gia muốn potluck xin liên lạ
 c:\n\nBan Song Nguyền AC Sơn-Hương 408-580-4620 Hay Hoàn-Hằng 4
 08-655-9183.\n\nChương trình sẽ lo thức ăn đầy đủ cho buổi
  họp mặt này\, rất mong quý anh chị bớt thời giờ tham dự
  Thánh Lễ Bổn mạng và cùng vui với nhau nhân dịp cuối năm
 .\n   Thân Mến\nHoàn-Thu Hằng\n408-655-9183
ATTACH;FMTTYPE=image/jpeg:https://tthngd.net/wp-content/uploads/2023/04/LO
 GOGXDMLV10102016-103w.png
END:VEVENT
END:VCALENDAR