BEGIN:VCALENDAR
VERSION:2.0
PRODID:-//wp-events-plugin.com//7.2.3.1//EN
TZID:America/Los_Angeles
X-WR-TIMEZONE:America/Los_Angeles
BEGIN:VEVENT
UID:8@tthngd.net
DTSTART;TZID=America/Los_Angeles;VALUE=DATE:20221230
DTEND;TZID=America/Los_Angeles;VALUE=DATE:20230101
DTSTAMP:20220806T164413Z
URL:https://tthngd.net/events/le-thanh-gia-bon-mang-cua-ct-tthngd/
SUMMARY:2022 Lễ Thánh Gia Bổn Mạng của CT-TTHNGĐ
DESCRIPTION:
ATTACH;FMTTYPE=image/jpeg:https://tthngd.net/wp-content/uploads/2023/04/do
 wnload-gigapixel-standard-scale-4_00x.png
END:VEVENT
BEGIN:VTIMEZONE
TZID:America/Los_Angeles
X-LIC-LOCATION:America/Los_Angeles
BEGIN:STANDARD
DTSTART:20221106T010000
TZOFFSETFROM:-0700
TZOFFSETTO:-0800
TZNAME:PST
END:STANDARD
END:VTIMEZONE
END:VCALENDAR