BEGIN:VCALENDAR
VERSION:2.0
PRODID:-//wp-events-plugin.com//7.2.3.1//EN
TZID:America/Los_Angeles
X-WR-TIMEZONE:America/Los_Angeles
BEGIN:VEVENT
UID:40@tthngd.net
DTSTART:20251108T190000Z
DTEND:20251108T233000Z
DTSTAMP:20251030T164451Z
URL:https://tthngd.net/events/hanh-huong-nam-thanh-va-thanh-le-cau-cho-cac
 -linh-hon-cua-chuong-trinh/
SUMMARY:Hành Hương Năm Thánh và Thánh Lễ Cầu Cho Các Linh Hồn
  của Chương Trình
DESCRIPTION:Kính thưa quý Anh Chị\,\n\nKính mời quý Anh Chị và 
 gia đình tham dự buổi Hành Hương Năm Thánh 2025 của Chương 
 Trình Thăng Tiến Hôn Nhân Gia Đình Giáo Phận San Jose.\n\nChư
 ơng Trình Tổng Quát9:00 AM - 9:30 AM Chuẩn Bị Giải Tội và Th
 ánh Lễ9:30 AM - 10:30 AM Giải Tội10:30 AM - 11:30 AM Thánh Lễ t
 ại Nhà Thờ Cổ để Cầu Nguyện Cho Các Linh Hồn trong CT11:3
 0 AM - 11:45 AM Chầu Thánh Thể11:45 AM - 1:00 PM Ăn Trưa và Dọn 
 Dẹp1:00 PM - 2:00 PM Thăm Viếng Mission (Optional)\n\nCha Linh Nguy
 ền Vincente Nguyễn Đình Truyền sẽ dâng Thánh Lễ và cử hà
 nh Nghi Thức Chầu Thánh Thể. Cha Antôn Lê Văn Hưởng và cha P
 hêrô Hoàng Văn Thi sẽ ngồi Tòa Giải Tội trong Nhà Thờ Cổ
 . Nhà Thờ Cổ Mission San Jose ở Fremont là một trong những nơ
 i được chọn là địa điểm hành hương để lãnh nhận ơn 
 Toàn Xá trong Năm Thánh 2025. Xin quý anh chị cố gắng dành th
 ời gian tham dự toàn bộ chương trình để lãnh nhận ơn Toà
 n Xá\, và nếu được sẽ nhường lại cho các Linh Hồn chúng
  ta cầu nguyện cho.\n\nXin quý anh chị đem theo di ảnh của cá
 c Linh Hồn người thân đã qua đời để tất cả các Song Ngu
 yền cùng cầu nguyện cho các Linh Hồn này trong Thánh Lễ. Tr
 ước Thánh Lễ Cầu Cho Các Linh Hồn của CT vào ngày 17 tháng
  11 năm 2024\, chúng em đã nhận được danh sách các Linh Hồn 
 và vẫn còn lưu giữ. Nếu có Linh Hồn người thân (Vợ/Chồ
 ng\, Tứ Thân Phụ Mẫu\, hoặc Con) đã ly trần từ ngày đó c
 ho tới nay\, xin quý anh chị gởi Tên Thánh và Họ Tên cho anh 
 chị Minh Thủy\, Trưởng Ban Linh Trợ (408-406-6562\, email: minhth
 uyphamvu1096@gmail.com) hoặc chúng em Thanh Huệ.\n\nMọi thắc mắ
 c xin quý anh chị liên lạc với anh chị Minh Thủy hay chúng em
 . Xin cám ơn và chúc quý anh chị một tuần lễ an lành.\n\nCh
 úng em\,Thanh-HuệChủ Nguyềnthanhhue2720@gmail.com(408) 826-9404 (Th
 anh)(408) 702-7000 (Huệ)
ATTACH;FMTTYPE=image/jpeg:https://tthngd.net/wp-content/uploads/2025/09/Mi
 ssion-SJ-Fremont.webp
LOCATION:Mission San José\, 43300 Mission Blvd\, Fremont\, CA\, 94539\, Sa
 nta Clara\, United States
X-APPLE-STRUCTURED-LOCATION;VALUE=URI;X-ADDRESS=43300 Mission Blvd\, Fremon
 t\, CA\, 94539\, Santa Clara\, United States;X-APPLE-RADIUS=100;X-TITLE=Mi
 ssion San José:geo:0,0
END:VEVENT
END:VCALENDAR