BEGIN:VCALENDAR
VERSION:2.0
PRODID:-//wp-events-plugin.com//7.2.3.1//EN
TZID:America/Los_Angeles
X-WR-TIMEZONE:America/Los_Angeles
BEGIN:VEVENT
UID:7@tthngd.net
DTSTART;VALUE=DATE:20240628
DTEND;VALUE=DATE:20240701
DTSTAMP:20240429T164114Z
URL:https://tthngd.net/events/2024-khoa-hoc-thang-tien-hon-nhan-gia-dinh/
SUMMARY:2024 Khóa Học Thăng Tiến Hôn Nhân Gia Đình
DESCRIPTION:Cuối tuần Ngày 28-30 Tháng 6 Năm 2024\nTại San Damiano
  Retreat Danville\n\nhttps://sandamiano.org/\n\nThân mời Quý Ông Bà 
 và anh chị em dành một cuối tuần tham dự khóa Thăng Tiến H
 ôn Nhân Gia Đình:\n\n 	Cảm tạ\, cảm ơn bạn đời đến tron
 g cuộc đời mình.\n 	Học hỏi khám phá những bí quyết làm 
 tăng thêm hạnh phúc gia đình.\n 	Tìm hiểu những phương thứ
 c giáo dục để cải tiến mối quan hệ giữa cha mẹ và con c
 ái.\n 	Gặp gỡ kết bạn để củng cố đức tin và nâng đ
 ỡ nhau vượt qua những khó khăn trong cuộc sống.\n 	Tham dự 
 Khóa Thăng Tiến Hôn Nhân Gia Đình là món quà quý giá nhất c
 ho những cặp hôn nhân. Nhất là có thời giờ để nhìn lại
  hôn nhân của mình.\n 	Xin mời vào website http://tthngd.net/ đ
 ể tham khảo và download đơn ghi danh ở dưới đây.\n\nKính mo
 ng quý vị ghi danh sớm để giữ chỗ\, xin liên lạc:\n\nAC Tha
 nh-Huệ: (408) 702-7000\nAC Hoàn-Hằng: (408) 655-9183\n\nĐơn Ghi Dan
 h Khóa Học 2024
ATTACH;FMTTYPE=image/jpeg:https://tthngd.net/wp-content/uploads/2022/07/s-
 l1600.png
LOCATION:SAN DAMIANO RETREAT CENTER\, 710 Highland Drive\, Danville\, CA\, 
 94256\, United States
X-APPLE-STRUCTURED-LOCATION;VALUE=URI;X-ADDRESS=710 Highland Drive\, Danvil
 le\, CA\, 94256\, United States;X-APPLE-RADIUS=100;X-TITLE=SAN DAMIANO RET
 REAT CENTER:geo:0,0
END:VEVENT
END:VCALENDAR