BEGIN:VCALENDAR
VERSION:2.0
PRODID:-//wp-events-plugin.com//7.2.3.1//EN
TZID:America/Los_Angeles
X-WR-TIMEZONE:America/Los_Angeles
BEGIN:VEVENT
UID:6@tthngd.net
DTSTART:20220807T030000Z
DTEND:20220807T080000Z
DTSTAMP:20220730T234752Z
URL:https://tthngd.net/events/2022-picnic-tai-ortega-park-o-sunnyvale/
SUMMARY:2022 Picnic tại Ortega Park ở Sunnyvale
DESCRIPTION:Mến chào quý anh chị Song Nguyền thân mến\,\n\nChún
 g em xin được thay mặt Ban Điều Hành CTTTHNGĐ Giáo Phận San 
 Jose thân mời toàn thể qúy anh chị Song Nguyền và thân hữu 
 tham dự buổi picnic do CTTTHNGĐ tổ chức từ 10 giờ sáng đế
 n 3 giờ chiều vào Chúa Nhật\, ngày 7 tháng 8 năm 2022.\n\nĐị
 a điểm:\nOrtega Park\n636 Harrow Way\nSunnyvale\, CA 94087\n\n• Có T
 hánh Lễ Chúa Nhật ở Picnic. \n• Ăn trưa gồm những món nh
 ư: hamburger\, hot dog\, salad\, trái cây\, chè\, nước lọc\, (kh
 ông có bia\, rượu.) \n• Các anh chị có thể đem thêm thức 
 ăn nước uống riêng tùy ý. \n• Ban Sinh Hoạt sẽ có các tr
 ò chơi chung cho trẻ em và người lớn. \n• Có thể đem theo 
 tent để che nắng\, ghế cho picnic\, ball\, frisbee hay dụng cụ 
 thể thao. \n\nLệ phí: $10.00 mỗi người (trẻ em dưới 5 tuổ
 i\, miễn phí)\n\nXin quý anh chị vui lòng điền vào phiếu ghi 
 danh đính kèm và gửi lệ phí\n(ký check xin để tên Thanh My D
 o) về địa chỉ:\n\nĐôngKiều Hoàng\n3166 Whiteleaf Ct.\nSan Jose
 \, CA 95148\n\n(408) 207-5373 Email: dongkieuhoang@gmail.com\nHay có th
 ể liên lạc:\n\nAC Đoàn Hoàn-Hằng:\nĐịa chỉ nhà 1622 Bitter
 n Dr. Sunnyvale CA 94087\nPhone 408-655-9183. E-mail: hoanhang@gmail.com\n
 \nXin quý anh chị vui lòng ghi danh sớm để Ban Tổ Chức tiện
  việc sắp xếp. Mến chào quý anh chị trong tình yêu của Th
 ánh Gia.\n\nThay Mặt Ban Điều Hành\,\n\nBan Sinh Hoạt\,\n\nSN Ho
 àng Văn Đông-Thúy Kiều.
ATTACH;FMTTYPE=image/jpeg:https://tthngd.net/wp-content/uploads/2023/04/do
 wnload-gigapixel-standard-scale-4_00x.png
LOCATION:Ortega Park\, 636 Harrow Way\, Sunnyvale\, California\, 94087\, Un
 ited States
X-APPLE-STRUCTURED-LOCATION;VALUE=URI;X-ADDRESS=636 Harrow Way\, Sunnyvale\
 , California\, 94087\, United States;X-APPLE-RADIUS=100;X-TITLE=Ortega Par
 k:geo:0,0
END:VEVENT
END:VCALENDAR